BEGIN:VCALENDAR
VERSION:2.0
PRODID:-//Acme Widgets\, Inc.//NONSGML ExportToCalendar//EN
CALSCALE:GREGORIAN
BEGIN:VEVENT
DTSTAMP:20260425T141740Z
UID:1fdde98d-5b2e-4b7c-8b1a-57feb5608c91
DTSTART:20260425T103000
DTEND:20260425T110000
DESCRIPTION:Inspection for 123 Horologium Rd\, AUSTRAL NSW 2179
LOCATION:123 Horologium Rd\, AUSTRAL NSW 2179
SUMMARY:123 Horologium Rd\, AUSTRAL NSW 2179
END:VEVENT
END:VCALENDAR
