BEGIN:VCALENDAR
VERSION:2.0
PRODID:-//Acme Widgets\, Inc.//NONSGML ExportToCalendar//EN
CALSCALE:GREGORIAN
BEGIN:VEVENT
DTSTAMP:20260425T141910Z
UID:e493e6a4-8720-4267-bdb9-f36a3b5f9739
DTSTART:20260425T100000
DTEND:20260425T103000
DESCRIPTION:Inspection for 31 St Pauls Way\, BLACKTOWN NSW 2148
LOCATION:31 St Pauls Way\, BLACKTOWN NSW 2148
SUMMARY:31 St Pauls Way\, BLACKTOWN NSW 2148
END:VEVENT
END:VCALENDAR
