BEGIN:VCALENDAR
VERSION:2.0
PRODID:-//Acme Widgets\, Inc.//NONSGML ExportToCalendar//EN
CALSCALE:GREGORIAN
BEGIN:VEVENT
DTSTAMP:20260425T141621Z
UID:424a8af4-6461-41aa-a697-b2a99c3811b7
DTSTART:20260426T143000
DTEND:20260426T150000
DESCRIPTION:Inspection for 123 Horologium Rd\, AUSTRAL NSW 2179
LOCATION:123 Horologium Rd\, AUSTRAL NSW 2179
SUMMARY:123 Horologium Rd\, AUSTRAL NSW 2179
END:VEVENT
END:VCALENDAR
