BEGIN:VCALENDAR
VERSION:2.0
PRODID:-//Acme Widgets\, Inc.//NONSGML ExportToCalendar//EN
CALSCALE:GREGORIAN
BEGIN:VEVENT
DTSTAMP:20260423T131227Z
UID:b1cd2ed2-3fd3-4081-83f7-89c24e7b8191
DTSTART:20260425T120000
DTEND:20260425T123000
DESCRIPTION:Inspection for 2 Quinn St\, WENTWORTHVILLE NSW 2145
LOCATION:2 Quinn St\, WENTWORTHVILLE NSW 2145
SUMMARY:2 Quinn St\, WENTWORTHVILLE NSW 2145
END:VEVENT
END:VCALENDAR
