BEGIN:VCALENDAR
VERSION:2.0
PRODID:-//Acme Widgets\, Inc.//NONSGML ExportToCalendar//EN
CALSCALE:GREGORIAN
BEGIN:VEVENT
DTSTAMP:20260421T082105Z
UID:ac1777c4-ce83-4868-8cff-d43aa6147a40
DTSTART:20260418T103000
DTEND:20260418T110000
DESCRIPTION:Inspection for 123 Horologium Rd\, AUSTRAL NSW 2179
LOCATION:123 Horologium Rd\, AUSTRAL NSW 2179
SUMMARY:123 Horologium Rd\, AUSTRAL NSW 2179
END:VEVENT
END:VCALENDAR
